BEGIN:VCALENDAR
VERSION:2.0
PRODID:-//AME International Health Commission - ECPv6.15.20//NONSGML v1.0//EN
CALSCALE:GREGORIAN
METHOD:PUBLISH
X-WR-CALNAME:AME International Health Commission
X-ORIGINAL-URL:https://www.amechealth.org
X-WR-CALDESC:Events for AME International Health Commission
REFRESH-INTERVAL;VALUE=DURATION:PT1H
X-Robots-Tag:noindex
X-PUBLISHED-TTL:PT1H
BEGIN:VTIMEZONE
TZID:UTC
BEGIN:STANDARD
TZOFFSETFROM:+0000
TZOFFSETTO:+0000
TZNAME:UTC
DTSTART:20210101T000000
END:STANDARD
END:VTIMEZONE
BEGIN:VEVENT
DTSTART;TZID=UTC:20220330T140000
DTEND;TZID=UTC:20220330T150000
DTSTAMP:20260423T135240
CREATED:20220324T190105Z
LAST-MODIFIED:20220324T190215Z
UID:1753-1648648800-1648652400@www.amechealth.org
SUMMARY:Brain Talk Live: Emory University Goizueta Alzheimer's Disease Center
DESCRIPTION:Register at: https://us02web.zoom.us/webinar/register/WN_1Wz5I4puRRigjazZTIQUwQ
URL:https://www.amechealth.org/amecevent/brain-talk-live-emory-university-goizueta-alzheimers-disease-center/
CATEGORIES:Alzheimer's and other dementias,AMECHealth
END:VEVENT
END:VCALENDAR