BEGIN:VCALENDAR
VERSION:2.0
PRODID:-//AME International Health Commission - ECPv6.15.20//NONSGML v1.0//EN
CALSCALE:GREGORIAN
METHOD:PUBLISH
X-WR-CALNAME:AME International Health Commission
X-ORIGINAL-URL:https://www.amechealth.org
X-WR-CALDESC:Events for AME International Health Commission
REFRESH-INTERVAL;VALUE=DURATION:PT1H
X-Robots-Tag:noindex
X-PUBLISHED-TTL:PT1H
BEGIN:VTIMEZONE
TZID:UTC
BEGIN:STANDARD
TZOFFSETFROM:+0000
TZOFFSETTO:+0000
TZNAME:UTC
DTSTART:20200101T000000
END:STANDARD
END:VTIMEZONE
BEGIN:VEVENT
DTSTART;TZID=UTC:20220314T000000
DTEND;TZID=UTC:20220320T233000
DTSTAMP:20260423T111739
CREATED:20211130T220210Z
LAST-MODIFIED:20211130T220210Z
UID:1613-1647216000-1647819000@www.amechealth.org
SUMMARY:Brain Awareness Week (March 14-20)
DESCRIPTION:James 2:14-26 \n14 What good is it\, my brothers and sisters\, if someone claims to have faith but has no deeds? Can such faith save them? 15 Suppose a brother or a sister is without clothes and daily food. 16 If one of you says to them\, “Go in peace; keep warm and well fed\,” but does nothing about their physical needs\, what good is it? 17 In the same way\, faith by itself\, if it is not accompanied by action\, is dead. \n18 But someone will say\, “You have faith; I have deeds.” \nShow me your faith without deeds\, and I will show you my faith by my deeds. 19 You believe that there is one God. Good! Even the demons believe that—and shudder. \n20 You foolish person\, do you want evidence that faith without deeds is useless[a]? 21 Was not our father Abraham considered righteous for what he did when he offered his son Isaac on the altar? 22 You see that his faith and his actions were working together\, and his faith was made complete by what he did. 23 And the scripture was fulfilled that says\, “Abraham believed God\, and it was credited to him as righteousness\,”[b] and he was called God’s friend. 24 You see that a person is considered righteous by what they do and not by faith alone. \n25 In the same way\, was not even Rahab the prostitute considered righteous for what she did when she gave lodging to the spies and sent them off in a different direction? 26 As the body without the spirit is dead\, so faith without deeds is dead. \nhttps://www.brainawareness.org/  \nConnectional Purple Sunday (March 20) www.AMEChealth.org/alz 
URL:https://www.amechealth.org/amecevent/brain-awareness-week-march-14-20/
CATEGORIES:AMECHealth,Health Observances
ATTACH;FMTTYPE=image/jpeg:https://www.amechealth.org/wp-content/uploads/2021/11/Screenshot-2021-11-30-170033.jpg
END:VEVENT
BEGIN:VEVENT
DTSTART;TZID=UTC:20220306T000000
DTEND;TZID=UTC:20220312T233000
DTSTAMP:20260423T111739
CREATED:20211130T215603Z
LAST-MODIFIED:20211130T215603Z
UID:1610-1646524800-1647127800@www.amechealth.org
SUMMARY:Week of Prayer for the Healing of HIV/AIDS (March 6-12)
DESCRIPTION:James 2:14-26 \n14 What good is it\, my brothers and sisters\, if someone claims to have faith but has no deeds? Can such faith save them? 15 Suppose a brother or a sister is without clothes and daily food. 16 If one of you says to them\, “Go in peace; keep warm and well fed\,” but does nothing about their physical needs\, what good is it? 17 In the same way\, faith by itself\, if it is not accompanied by action\, is dead. \n18 But someone will say\, “You have faith; I have deeds.” \nShow me your faith without deeds\, and I will show you my faith by my deeds. 19 You believe that there is one God. Good! Even the demons believe that—and shudder. \n20 You foolish person\, do you want evidence that faith without deeds is useless[a]? 21 Was not our father Abraham considered righteous for what he did when he offered his son Isaac on the altar? 22 You see that his faith and his actions were working together\, and his faith was made complete by what he did. 23 And the scripture was fulfilled that says\, “Abraham believed God\, and it was credited to him as righteousness\,”[b] and he was called God’s friend. 24 You see that a person is considered righteous by what they do and not by faith alone. \n25 In the same way\, was not even Rahab the prostitute considered righteous for what she did when she gave lodging to the spies and sent them off in a different direction? 26 As the body without the spirit is dead\, so faith without deeds is dead. \nHome \n \nhttps://www.who.int/  \nNational Week of Prayer for the Healing of Aids
URL:https://www.amechealth.org/amecevent/week-of-prayer-for-the-healing-of-hiv-aids-march-6-12/
CATEGORIES:AMECHealth,Health Observances
ATTACH;FMTTYPE=image/jpeg:https://www.amechealth.org/wp-content/uploads/2021/11/Screenshot-2021-11-30-165331.jpg
END:VEVENT
BEGIN:VEVENT
DTSTART;TZID=UTC:20220301T000000
DTEND;TZID=UTC:20220331T233000
DTSTAMP:20260423T111739
CREATED:20211130T215016Z
LAST-MODIFIED:20211130T215016Z
UID:1607-1646092800-1648769400@www.amechealth.org
SUMMARY:World Kidney Awareness Month
DESCRIPTION:James 2:14-26 \n14 What good is it\, my brothers and sisters\, if someone claims to have faith but has no deeds? Can such faith save them? 15 Suppose a brother or a sister is without clothes and daily food. 16 If one of you says to them\, “Go in peace; keep warm and well fed\,” but does nothing about their physical needs\, what good is it? 17 In the same way\, faith by itself\, if it is not accompanied by action\, is dead. \n18 But someone will say\, “You have faith; I have deeds.” \nShow me your faith without deeds\, and I will show you my faith by my deeds. 19 You believe that there is one God. Good! Even the demons believe that—and shudder. \n20 You foolish person\, do you want evidence that faith without deeds is useless[a]? 21 Was not our father Abraham considered righteous for what he did when he offered his son Isaac on the altar? 22 You see that his faith and his actions were working together\, and his faith was made complete by what he did. 23 And the scripture was fulfilled that says\, “Abraham believed God\, and it was credited to him as righteousness\,”[b] and he was called God’s friend. 24 You see that a person is considered righteous by what they do and not by faith alone. \n25 In the same way\, was not even Rahab the prostitute considered righteous for what she did when she gave lodging to the spies and sent them off in a different direction? 26 As the body without the spirit is dead\, so faith without deeds is dead. \nHome \n \nhttps://www.who.int/ \nhttps://www.worldkidneyday.org/2022-campaign/2022-wkd-theme/  \nhttps://www.kidney.org/content/national-kidney-month  \nhttps://www.niddk.nih.gov/health-information/community-health-outreach/national-kidney-month \n 
URL:https://www.amechealth.org/amecevent/world-kidney-awareness-month/
CATEGORIES:AMECHealth,Health Observances
ATTACH;FMTTYPE=image/jpeg:https://www.amechealth.org/wp-content/uploads/2021/11/kidney_t600.jpg
END:VEVENT
BEGIN:VEVENT
DTSTART;TZID=UTC:20220301T000000
DTEND;TZID=UTC:20220331T233000
DTSTAMP:20260423T111739
CREATED:20211130T214513Z
LAST-MODIFIED:20211130T214513Z
UID:1604-1646092800-1648769400@www.amechealth.org
SUMMARY:Colorectal Cancer Awareness Month
DESCRIPTION:James 2:14-26 \n14 What good is it\, my brothers and sisters\, if someone claims to have faith but has no deeds? Can such faith save them? 15 Suppose a brother or a sister is without clothes and daily food. 16 If one of you says to them\, “Go in peace; keep warm and well fed\,” but does nothing about their physical needs\, what good is it? 17 In the same way\, faith by itself\, if it is not accompanied by action\, is dead. \n18 But someone will say\, “You have faith; I have deeds.” \nShow me your faith without deeds\, and I will show you my faith by my deeds. 19 You believe that there is one God. Good! Even the demons believe that—and shudder. \n20 You foolish person\, do you want evidence that faith without deeds is useless[a]? 21 Was not our father Abraham considered righteous for what he did when he offered his son Isaac on the altar? 22 You see that his faith and his actions were working together\, and his faith was made complete by what he did. 23 And the scripture was fulfilled that says\, “Abraham believed God\, and it was credited to him as righteousness\,”[b] and he was called God’s friend. 24 You see that a person is considered righteous by what they do and not by faith alone. \n25 In the same way\, was not even Rahab the prostitute considered righteous for what she did when she gave lodging to the spies and sent them off in a different direction? 26 As the body without the spirit is dead\, so faith without deeds is dead. \nHome \n \nhttps://www.who.int/ \nColorectal Cancer \n \nhttps://www.cancer.org/cancer/colon-rectal-cancer.html 
URL:https://www.amechealth.org/amecevent/colorectal-cancer-awareness-month/
CATEGORIES:AMECHealth,Health Observances
ATTACH;FMTTYPE=image/jpeg:https://www.amechealth.org/wp-content/uploads/2021/11/AdobeStock_306336703-Converted-scaled-1.jpg
END:VEVENT
BEGIN:VEVENT
DTSTART;TZID=UTC:20220301T000000
DTEND;TZID=UTC:20220301T233000
DTSTAMP:20260423T111739
CREATED:20211130T213809Z
LAST-MODIFIED:20211130T213809Z
UID:1601-1646092800-1646177400@www.amechealth.org
SUMMARY:Nutrition Month
DESCRIPTION:James 2:14-26 \n14 What good is it\, my brothers and sisters\, if someone claims to have faith but has no deeds? Can such faith save them? 15 Suppose a brother or a sister is without clothes and daily food. 16 If one of you says to them\, “Go in peace; keep warm and well fed\,” but does nothing about their physical needs\, what good is it? 17 In the same way\, faith by itself\, if it is not accompanied by action\, is dead. \n18 But someone will say\, “You have faith; I have deeds.” \nShow me your faith without deeds\, and I will show you my faith by my deeds. 19 You believe that there is one God. Good! Even the demons believe that—and shudder. \n20 You foolish person\, do you want evidence that faith without deeds is useless[a]? 21 Was not our father Abraham considered righteous for what he did when he offered his son Isaac on the altar? 22 You see that his faith and his actions were working together\, and his faith was made complete by what he did. 23 And the scripture was fulfilled that says\, “Abraham believed God\, and it was credited to him as righteousness\,”[b] and he was called God’s friend. 24 You see that a person is considered righteous by what they do and not by faith alone. \n25 In the same way\, was not even Rahab the prostitute considered righteous for what she did when she gave lodging to the spies and sent them off in a different direction? 26 As the body without the spirit is dead\, so faith without deeds is dead. \nhttps://www.amechealth.org/  \nhttps://www.who.int/  \nhttps://ame-church.rouxbe.com/ \nhttp://www.eatright.org/ \nhttps://www.heart.org/en/healthy-living/healthy-eating/cooking-skills  \n 
URL:https://www.amechealth.org/amecevent/nutrition-month/
CATEGORIES:AMECHealth,Health Observances
ATTACH;FMTTYPE=image/jpeg:https://www.amechealth.org/wp-content/uploads/2021/11/marchnutrition-01-scaled.jpg
END:VEVENT
BEGIN:VEVENT
DTSTART;TZID=UTC:20220227T180000
DTEND;TZID=UTC:20220227T200000
DTSTAMP:20260423T111739
CREATED:20220213T205734Z
LAST-MODIFIED:20220213T211514Z
UID:1679-1645984800-1645992000@www.amechealth.org
SUMMARY:AMEs Let's Get Growing!
DESCRIPTION:The International Health Commission has placed as a key emphasis engaging our churches in the area of farming and gardening. We are excited about the level of interest and are looking forward to your help\, guidance\, and energy in expanding the reach and impact of the farms/gardens in our ZION. \nHear from a Master Gardener. Learn of Resources in your Local Area. Ideas for Garden Planning. Ask your questions.
URL:https://www.amechealth.org/amecevent/ames-lets-get-growing/
CATEGORIES:AMECHealth,Monthly Meeting
ATTACH;FMTTYPE=image/jpeg:https://www.amechealth.org/wp-content/uploads/2022/02/IHC-Growing-Flyer-2-2022.jpg
END:VEVENT
BEGIN:VEVENT
DTSTART;TZID=UTC:20220201T000000
DTEND;TZID=UTC:20220228T233000
DTSTAMP:20260423T111739
CREATED:20211130T212833Z
LAST-MODIFIED:20211130T212833Z
UID:1599-1643673600-1646091000@www.amechealth.org
SUMMARY:Heart and Stroke Month
DESCRIPTION:Philippians 4:4-9 \n4 Rejoice in the Lord always. I will say it again: Rejoice! 5 Let your gentleness be evident to all. The Lord is near. 6 Do not be anxious about anything\, but in every situation\, by prayer and petition\, with thanksgiving\, present your requests to God. 7 And the peace of God\, which transcends all understanding\, will guard your hearts and your minds in Christ Jesus. \n8 Finally\, brothers and sisters\, whatever is true\, whatever is noble\, whatever is right\, whatever is pure\, whatever is lovely\, whatever is admirable—if anything is excellent or praiseworthy—think about such things. 9 Whatever you have learned or received or heard from me\, or seen in me—put it into practice. And the God of peace will be with you. \nHome \n \nhttp://www.heart.org/   \nhttps://millionhearts.hhs.gov/ \nhttp://www.abcardio.org/ \nhttp://www.heartandstroke.ca/ \nhttp://www.stroke.org/ \nhttp://www.cdc.gov/stroke/communications_kit.htm \nhttp://www.cdc.gov/heartdisease/american_heart_month.htm
URL:https://www.amechealth.org/amecevent/heart-and-stroke-month/
CATEGORIES:AMECHealth,Health Observances
ATTACH;FMTTYPE=image/png:https://www.amechealth.org/wp-content/uploads/2021/10/heart-month-slider-item_0-1200x437-1.png
END:VEVENT
BEGIN:VEVENT
DTSTART;TZID=UTC:20220101T000000
DTEND;TZID=UTC:20220131T233000
DTSTAMP:20260423T111739
CREATED:20211130T212008Z
LAST-MODIFIED:20211130T212008Z
UID:1597-1640995200-1643671800@www.amechealth.org
SUMMARY:Glaucoma Awareness Month
DESCRIPTION:Psalm 134 \nA song of ascents. \n1 Praise the Lord\, all you servants of the Lord \n    who minister by night in the house of the Lord. \n2 Lift up your hands in the sanctuary \n    and praise the Lord. \n3 May the Lord bless you from Zion\, \n    he who is the Maker of heaven and earth. \nhttp://www.glaucoma.org/news/glaucomaawareness%20month.php  \nhttps://www.nei.nih.gov/learn-about-eye-health/outreach-campaigns-and-resources/glaucoma-resources/glaucoma-awareness-month
URL:https://www.amechealth.org/amecevent/glaucoma-awareness-month/
CATEGORIES:AMECHealth,Health Observances
ATTACH;FMTTYPE=image/jpeg:https://www.amechealth.org/wp-content/uploads/2021/10/shutterstock_1260025549.jpg
END:VEVENT
BEGIN:VEVENT
DTSTART;TZID=UTC:20211206T000000
DTEND;TZID=UTC:20211212T233000
DTSTAMP:20260423T111739
CREATED:20211130T210701Z
LAST-MODIFIED:20211130T210701Z
UID:1595-1638748800-1639351800@www.amechealth.org
SUMMARY:National Influenza Vaccination Week (US)
DESCRIPTION:Revelation 22:1-2\n22 Then the angel showed me the river of the water of life\, as clear as crystal\, flowing from the throne of God and of the Lamb 2 down the middle of the great street of the city. On each side of the river stood the tree of life\, bearing twelve crops of fruit\, yielding its fruit every month. And the leaves of the tree are for the healing of the nations.\nhttp://www.cdc.gov/flu/resource-center/nivw/index.htm 
URL:https://www.amechealth.org/amecevent/national-influenza-vaccination-week-us/
CATEGORIES:AMECHealth,Health Observances
END:VEVENT
BEGIN:VEVENT
DTSTART;VALUE=DATE:20211203
DTEND;VALUE=DATE:20211204
DTSTAMP:20260423T111739
CREATED:20211130T210408Z
LAST-MODIFIED:20211130T210408Z
UID:1593-1638489600-1638575999@www.amechealth.org
SUMMARY:International Day of Persons with Disabilities Day
DESCRIPTION:Revelation 22:1-2\n22 Then the angel showed me the river of the water of life\, as clear as crystal\, flowing from the throne of God and of the Lamb 2 down the middle of the great street of the city. On each side of the river stood the tree of life\, bearing twelve crops of fruit\, yielding its fruit every month. And the leaves of the tree are for the healing of the nations.\nInterfaith Disability Advocacy Coalition (IDAC) \n \nhttps://www.un.org/development/desa/disabilities/international-day-of-persons-with-disabilities-3-december.html  \nhttps://www.who.int/campaigns/international-day-of-persons-with-disabilities  \nhttps://idpwd.org/ 
URL:https://www.amechealth.org/amecevent/international-day-of-persons-with-disabilities-day/
CATEGORIES:AMECHealth,Health Observances
ATTACH;FMTTYPE=image/jpeg:https://www.amechealth.org/wp-content/uploads/2021/10/IDPD-Logo-rev.4-300-scaled.jpg
END:VEVENT
BEGIN:VEVENT
DTSTART;TZID=UTC:20211101T050000
DTEND;TZID=UTC:20211130T233000
DTSTAMP:20260423T111739
CREATED:20211130T204357Z
LAST-MODIFIED:20211130T204357Z
UID:1582-1635742800-1638315000@www.amechealth.org
SUMMARY:Diabetes Month
DESCRIPTION:Proverbs 23:1-3 \n1 When you sit down to eat with a ruler\, \n    observe carefully what[a] is before you\, \n2 and put a knife to your throat \n    if you are given to appetite. \n3 Do not desire his delicacies\, \n    for they are deceptive food. \nProverbs 23:19-21 \n19 Listen\, my son\, and be wise\, \n    and set your heart on the right path: \n20 Do not join those who drink too much wine \n    or gorge themselves on meat\, \n21 for drunkards and gluttons become poor\, \n    and drowsiness clothes them in rags. \nhttp://www.diabetes.org/  \nhttp://www.idf.org/ \nhttps://www.citieschangingdiabetes.com/
URL:https://www.amechealth.org/amecevent/diabetes-month/
CATEGORIES:AMECHealth,Health Observances
ATTACH;FMTTYPE=image/jpeg:https://www.amechealth.org/wp-content/uploads/2021/10/National-Diabetes-Month.jpg
END:VEVENT
BEGIN:VEVENT
DTSTART;TZID=UTC:20211101T000000
DTEND;TZID=UTC:20211130T233000
DTSTAMP:20260423T111739
CREATED:20211130T204917Z
LAST-MODIFIED:20211130T204917Z
UID:1585-1635724800-1638315000@www.amechealth.org
SUMMARY:Alzheimer’s Awareness Month
DESCRIPTION:Proverbs 23:1-3 \n1 When you sit down to eat with a ruler\, \n    observe carefully what[a] is before you\, \n2 and put a knife to your throat \n    if you are given to appetite. \n3 Do not desire his delicacies\, \n    for they are deceptive food. \n\nProverbs 23:19-21 \n19 Listen\, my son\, and be wise\, \n    and set your heart on the right path: \n20 Do not join those who drink too much wine \n    or gorge themselves on meat\, \n21 for drunkards and gluttons become poor\, \n    and drowsiness clothes them in rags. \nhttp://www.amechealth/alz
URL:https://www.amechealth.org/amecevent/alzheimers-awareness-month/
CATEGORIES:AMECHealth,Health Observances
ATTACH;FMTTYPE=image/png:https://www.amechealth.org/wp-content/uploads/2021/11/alz_fb_link_2-1.png
END:VEVENT
BEGIN:VEVENT
DTSTART;VALUE=DATE:20210425
DTEND;VALUE=DATE:20210426
DTSTAMP:20260423T111739
CREATED:20211130T223253Z
LAST-MODIFIED:20211130T223253Z
UID:1629-1619308800-1619395199@www.amechealth.org
SUMMARY:World Malaria Day
DESCRIPTION:Psalm 100 \nA psalm. For giving grateful praise. \n1 Shout for joy to the Lord\, all the earth. \n2     Worship the Lord with gladness; \n    come before him with joyful songs. \n3 Know that the Lord is God. \n    It is he who made us\, and we are his[a]; \n    we are his people\, the sheep of his pasture. \n4 Enter his gates with thanksgiving \n    and his courts with praise; \n    give thanks to him and praise his name. \n5 For the Lord is good and his love endures forever; \n    his faithfulness continues through all generations. \nhttps://www.amechealth.org/  \nhttp://www.worldmalariaday.org/  \nhttp://www.who.int/campaigns/malariaday
URL:https://www.amechealth.org/amecevent/world-malaria-day/
CATEGORIES:AMECHealth,Health Observances
ATTACH;FMTTYPE=image/png:https://www.amechealth.org/wp-content/uploads/2021/11/world-malaria-day.png
END:VEVENT
END:VCALENDAR