BEGIN:VCALENDAR
VERSION:2.0
PRODID:-//AME International Health Commission - ECPv6.15.20//NONSGML v1.0//EN
CALSCALE:GREGORIAN
METHOD:PUBLISH
X-ORIGINAL-URL:https://www.amechealth.org
X-WR-CALDESC:Events for AME International Health Commission
REFRESH-INTERVAL;VALUE=DURATION:PT1H
X-Robots-Tag:noindex
X-PUBLISHED-TTL:PT1H
BEGIN:VTIMEZONE
TZID:UTC
BEGIN:STANDARD
TZOFFSETFROM:+0000
TZOFFSETTO:+0000
TZNAME:UTC
DTSTART:20210101T000000
END:STANDARD
END:VTIMEZONE
BEGIN:VTIMEZONE
TZID:America/Detroit
BEGIN:DAYLIGHT
TZOFFSETFROM:-0500
TZOFFSETTO:-0400
TZNAME:EDT
DTSTART:20200308T070000
END:DAYLIGHT
BEGIN:STANDARD
TZOFFSETFROM:-0400
TZOFFSETTO:-0500
TZNAME:EST
DTSTART:20201101T060000
END:STANDARD
BEGIN:DAYLIGHT
TZOFFSETFROM:-0500
TZOFFSETTO:-0400
TZNAME:EDT
DTSTART:20210314T070000
END:DAYLIGHT
BEGIN:STANDARD
TZOFFSETFROM:-0400
TZOFFSETTO:-0500
TZNAME:EST
DTSTART:20211107T060000
END:STANDARD
BEGIN:DAYLIGHT
TZOFFSETFROM:-0500
TZOFFSETTO:-0400
TZNAME:EDT
DTSTART:20220313T070000
END:DAYLIGHT
BEGIN:STANDARD
TZOFFSETFROM:-0400
TZOFFSETTO:-0500
TZNAME:EST
DTSTART:20221106T060000
END:STANDARD
BEGIN:DAYLIGHT
TZOFFSETFROM:-0500
TZOFFSETTO:-0400
TZNAME:EDT
DTSTART:20230312T070000
END:DAYLIGHT
BEGIN:STANDARD
TZOFFSETFROM:-0400
TZOFFSETTO:-0500
TZNAME:EST
DTSTART:20231105T060000
END:STANDARD
END:VTIMEZONE
BEGIN:VEVENT
DTSTART;TZID=UTC:20220305T190000
DTEND;TZID=UTC:20220305T210000
DTSTAMP:20260423T112423
CREATED:20220209T222757Z
LAST-MODIFIED:20220209T222757Z
UID:1672-1646506800-1646514000@www.amechealth.org
SUMMARY:Her Hair!  Zoom Meeting ID: 857 8790 5267
DESCRIPTION:
URL:https://www.amechealth.org/amecevent/her-hair-zoom-meeting-id-857-8790-5267/
CATEGORIES:Partner Events
ATTACH;FMTTYPE=image/jpeg:https://www.amechealth.org/wp-content/uploads/2022/02/image0.jpeg
END:VEVENT
BEGIN:VEVENT
DTSTART;TZID=UTC:20220223T130000
DTEND;TZID=UTC:20220223T150000
DTSTAMP:20260423T112423
CREATED:20220209T001822Z
LAST-MODIFIED:20220209T002452Z
UID:1663-1645621200-1645628400@www.amechealth.org
SUMMARY:Alzheimer's and Dementia Conversations
DESCRIPTION:Event Flyer\n 
URL:https://www.amechealth.org/amecevent/alzheimers-and-dementia-conversations/
CATEGORIES:Partner Events
ATTACH;FMTTYPE=image/jpeg:https://www.amechealth.org/wp-content/uploads/2022/02/Square_BHM-Webinar.jpg
END:VEVENT
BEGIN:VEVENT
DTSTART;TZID=America/Detroit:20220117T180000
DTEND;TZID=America/Detroit:20220117T200000
DTSTAMP:20260423T112423
CREATED:20211228T200554Z
LAST-MODIFIED:20220118T034630Z
UID:1644-1642442400-1642449600@www.amechealth.org
SUMMARY:Food Choices & You in 2022
DESCRIPTION: 
URL:https://www.amechealth.org/amecevent/food-choices-you-in-2022/
CATEGORIES:Partner Events
ATTACH;FMTTYPE=image/jpeg:https://www.amechealth.org/wp-content/uploads/2021/12/Food-Choice-Banner.jpg
END:VEVENT
BEGIN:VEVENT
DTSTART;TZID=America/Detroit:20211204T170000
DTEND;TZID=America/Detroit:20211204T213000
DTSTAMP:20260423T112423
CREATED:20211112T023026Z
LAST-MODIFIED:20211112T023027Z
UID:1545-1638637200-1638653400@www.amechealth.org
SUMMARY:An Evening of Gospel\, Inspiration and Action partnering For Life
DESCRIPTION:
URL:https://www.amechealth.org/amecevent/an-evening-of-gospel-inspiration-and-action-partnering-for-life/
CATEGORIES:Partner Events
ATTACH;FMTTYPE=image/png:https://www.amechealth.org/wp-content/uploads/2021/11/amec_cancerFlyer.png
END:VEVENT
BEGIN:VEVENT
DTSTART;TZID=America/Detroit:20211119T100000
DTEND;TZID=America/Detroit:20211119T110000
DTSTAMP:20260423T112423
CREATED:20211117T224704Z
LAST-MODIFIED:20211117T224952Z
UID:1552-1637316000-1637319600@www.amechealth.org
SUMMARY:Facebook Town Hall Meeting: Healthy Menu Options
DESCRIPTION:
URL:https://www.amechealth.org/amecevent/facebook-town-hall-meeting-healthy-menu-options/
CATEGORIES:Partner Events
ATTACH;FMTTYPE=image/jpeg:https://www.amechealth.org/wp-content/uploads/2021/11/Rhapsody-in-Black-Healthy-Menu-Options-1.jpg
END:VEVENT
END:VCALENDAR